BEGIN:VCALENDAR
VERSION:2.0
PRODID:-//ARCI Diverkstatt APS - ECPv6.15.20//NONSGML v1.0//EN
CALSCALE:GREGORIAN
METHOD:PUBLISH
X-ORIGINAL-URL:https://diverkstatt.it
X-WR-CALDESC:Eventi per ARCI Diverkstatt APS
REFRESH-INTERVAL;VALUE=DURATION:PT1H
X-Robots-Tag:noindex
X-PUBLISHED-TTL:PT1H
BEGIN:VTIMEZONE
TZID:Europe/Paris
BEGIN:DAYLIGHT
TZOFFSETFROM:+0100
TZOFFSETTO:+0200
TZNAME:CEST
DTSTART:20240331T010000
END:DAYLIGHT
BEGIN:STANDARD
TZOFFSETFROM:+0200
TZOFFSETTO:+0100
TZNAME:CET
DTSTART:20241027T010000
END:STANDARD
BEGIN:DAYLIGHT
TZOFFSETFROM:+0100
TZOFFSETTO:+0200
TZNAME:CEST
DTSTART:20250330T010000
END:DAYLIGHT
BEGIN:STANDARD
TZOFFSETFROM:+0200
TZOFFSETTO:+0100
TZNAME:CET
DTSTART:20251026T010000
END:STANDARD
BEGIN:DAYLIGHT
TZOFFSETFROM:+0100
TZOFFSETTO:+0200
TZNAME:CEST
DTSTART:20260329T010000
END:DAYLIGHT
BEGIN:STANDARD
TZOFFSETFROM:+0200
TZOFFSETTO:+0100
TZNAME:CET
DTSTART:20261025T010000
END:STANDARD
END:VTIMEZONE
BEGIN:VEVENT
DTSTART;VALUE=DATE:20250718
DTEND;VALUE=DATE:20250721
DTSTAMP:20260420T191926
CREATED:20250709T100141Z
LAST-MODIFIED:20250709T100141Z
UID:10000052-1752796800-1753055999@diverkstatt.it
SUMMARY:Summer Funk Tour
DESCRIPTION:SUMMER FUNK TOUR MEETS STADTFEST\n18.–20. Juli | Biodiversitätspark NOI Techpark | Bruneck \nOn the road to FUNK TOWN!Jede gute Reise beginnt im Partybus – und dieses Mal führt sie mitten ins Herz von Bruneck! \nDiverkstatt bringt gemeinsam mit Nizer\, Partybus South Tyrol und vielen weiteren Partner*innen frischen Wind\, gute Vibes und jede Menge Funk auf das Stadtfest Bruneck. Drei Tage lang feiern wir eine sober\, inklusive und tanzbare Sommerreise für alle – von Jugendlichen bis jung Gebliebenen. \nWas dich erwartet:\n\n\nSober Rave trifft auf No Alc FunkFeier ohne Alkohol\, aber mit vollem Sound! Wir zeigen\, dass ein bewusster Party-Lifestyle genauso elektrisierend sein kann. \n\n\nPartybus on tourUnser Partybus macht mobil: Musik\, Stimmung und Menschen auf Achse – mit einem Ziel: mehr Vielfalt\, mehr Zugänglichkeit\, mehr Spaß ohne Barrieren. \n\n\nBiodiversität trifft KulturDer Biodiversitätspark wird zur Bühne für Begegnung\, Beats und Bewegung. \n\n\n  \nSUMMER FUNK TOUR MEETS FESTA DELLA CITTÀ\n18–20 luglio | Parco della Biodiversità NOI Techpark |  Brunico \nOn the road to FUNK TOWN!Ogni buon viaggio inizia con il Partybus – e questa volta ci porta dritti nel cuore di Brunico! \nDiverkstatt\, insieme a Nizer\, Partybus South Tyrol e tanti altri partner\, porta nuova energia\, buone vibrazioni e tanto funk alla festa cittadina di Brunico. Tre giorni di viaggio estivo sobrio\, inclusivo e tutto da ballare – per giovani e meno giovani. \nCosa ti aspetta:\n\n\nSober Rave incontra il No Alc FunkUna festa senza alcol\, ma piena di ritmo! Dimostriamo che si può vivere la notte in modo consapevole e allo stesso tempo esplosivo. \n\n\nPartybus on tourIl nostro Partybus si mette in moto: musica\, gente e atmosfera in movimento – con un obiettivo chiaro: più diversità\, più accessibilità\, più divertimento senza barriere. \n\n\nBiodiversità e cultura si incontranoIl Parco della Biodiversità si trasforma in un palco a cielo aperto per incontri\, musica e movimento.
URL:https://diverkstatt.it/event/summer-funk-tour/
LOCATION:Biodiversitätspark Bruneck | Parco della biodiversità Brunico
ATTACH;FMTTYPE=image/jpeg:https://diverkstatt.it/wp-content/uploads/2025/07/Def-Summer-Funk-Tour-Stadtfest-scaled.jpg
ORGANIZER;CN="ARCI Diverkstatt":MAILTO:info@diverkstatt.it
END:VEVENT
END:VCALENDAR