BEGIN:VCALENDAR
VERSION:2.0
PRODID:-//ARCI Diverkstatt APS - ECPv6.15.20//NONSGML v1.0//EN
CALSCALE:GREGORIAN
METHOD:PUBLISH
X-ORIGINAL-URL:https://diverkstatt.it
X-WR-CALDESC:Eventi per ARCI Diverkstatt APS
REFRESH-INTERVAL;VALUE=DURATION:PT1H
X-Robots-Tag:noindex
X-PUBLISHED-TTL:PT1H
BEGIN:VTIMEZONE
TZID:Europe/Paris
BEGIN:DAYLIGHT
TZOFFSETFROM:+0100
TZOFFSETTO:+0200
TZNAME:CEST
DTSTART:20240331T010000
END:DAYLIGHT
BEGIN:STANDARD
TZOFFSETFROM:+0200
TZOFFSETTO:+0100
TZNAME:CET
DTSTART:20241027T010000
END:STANDARD
BEGIN:DAYLIGHT
TZOFFSETFROM:+0100
TZOFFSETTO:+0200
TZNAME:CEST
DTSTART:20250330T010000
END:DAYLIGHT
BEGIN:STANDARD
TZOFFSETFROM:+0200
TZOFFSETTO:+0100
TZNAME:CET
DTSTART:20251026T010000
END:STANDARD
BEGIN:DAYLIGHT
TZOFFSETFROM:+0100
TZOFFSETTO:+0200
TZNAME:CEST
DTSTART:20260329T010000
END:DAYLIGHT
BEGIN:STANDARD
TZOFFSETFROM:+0200
TZOFFSETTO:+0100
TZNAME:CET
DTSTART:20261025T010000
END:STANDARD
END:VTIMEZONE
BEGIN:VEVENT
DTSTART;TZID=Europe/Paris:20250319T180000
DTEND;TZID=Europe/Paris:20250319T190000
DTSTAMP:20260421T004816
CREATED:20250224T110203Z
LAST-MODIFIED:20250304T134832Z
UID:10000015-1742407200-1742410800@diverkstatt.it
SUMMARY:Cooperativa di comunità in Val Pusteria | Bürger*innengenossenschaft im Pustertal
DESCRIPTION:Die Veranstaltung des Coopbund Südtirol stellt den vierten Abschnitt einer spannenden Reise dar\, die möglicherweise in der Gründung einer Bürger*innengenossenschaft im Pustertal gipfelt. Obwohl bereits verschiedene Treffen stattfanden\, haben Interessierte nach wie vor die Gelegenheit\, sich einzubringen und das Thema aktiv mitzugestalten. \nIm Mittelpunkt der Veranstaltung steht die Frage: „Wie wird ein genossenschaftliches Unternehmen geführt und welche Rechte und Pflichten haben die Mitglieder?“ \nZur Anmeldung nutzen Sie bitte folgenden Link:https://forms.gle/ebx9JjZcquhjqaZY9 \n\n  \nL’evento del Coopbund Alto Adige rappresenta il quarto capitolo di un percorso entusiasmante che potrebbe culminare nella fondazione di una cooperativa di comunità nella Val Pusteria. Pur essendo già stati organizzati diversi incontri\, è ancora possibile partecipare e contribuire attivamente alla discussione. \nL’evento si concentrerà sul tema: “Come si gestisce un’impresa cooperativa e quali sono i diritti e i doveri dei soci?” \nPer registrarsi\, utilizzare il seguente link:https://forms.gle/ebx9JjZcquhjqaZY9
URL:https://diverkstatt.it/event/cooperativa-di-comunita-in-val-pusteria-burgerinnengenossenschaft-im-pustertal/
LOCATION:Stazione Culturale EST Kulturbahnhof\, Diverkstatt\, Brunico | Bruneck\, BZ\, 39031\, Italy
ATTACH;FMTTYPE=image/jpeg:https://diverkstatt.it/wp-content/uploads/2025/02/Picture1.jpg
ORGANIZER;CN="Coopbund S%C3%BCdtirol - Alto Adige":MAILTO:clair.dejaco@coopbund.coop
END:VEVENT
END:VCALENDAR